{
 "version": 1.0,
 "tileBundlesPath": "./tile",
 "storageInfo": {
  "packetSize": 128,
  "storageFormat": "esriMapCacheStorageModeCompactV2"
 },
 "tileImageInfo": {
  "format": "PNG",
  "compressionQuality": 0,
  "bandCount": 1,
  "lercError": 0
 },
 "tileInfo": {
  "spatialReference": {
   "wkid": 102100,
   "latestWkid": 3857
  },
  "origin": {
   "x": -2.0037508342787E7,
   "y": 2.0037508342787E7
  },
  "rows": 256,
  "cols": 256,
  "dpi": 96,
  "lods": [
   {
    "level": 0,
    "resolution": 156543.033928,
    "scale": 5.91657527591555E8
   },
   {
    "level": 1,
    "resolution": 78271.5169639999,
    "scale": 2.95828763795777E8
   },
   {
    "level": 2,
    "resolution": 39135.7584820001,
    "scale": 1.47914381897889E8
   },
   {
    "level": 3,
    "resolution": 19567.8792409999,
    "scale": 7.3957190948944E7
   },
   {
    "level": 4,
    "resolution": 9783.93962049996,
    "scale": 3.6978595474472E7
   },
   {
    "level": 5,
    "resolution": 4891.96981024998,
    "scale": 1.8489297737236E7
   },
   {
    "level": 6,
    "resolution": 2445.98490512499,
    "scale": 9244648.868618
   },
   {
    "level": 7,
    "resolution": 1222.99245256249,
    "scale": 4622324.434309
   },
   {
    "level": 8,
    "resolution": 611.49622628138,
    "scale": 2311162.217155
   },
   {
    "level": 9,
    "resolution": 305.748113140558,
    "scale": 1155581.108577
   },
   {
    "level": 10,
    "resolution": 152.874056570411,
    "scale": 577790.554289
   },
   {
    "level": 11,
    "resolution": 76.4370282850732,
    "scale": 288895.277144
   },
   {
    "level": 12,
    "resolution": 38.2185141425366,
    "scale": 144447.638572
   },
   {
    "level": 13,
    "resolution": 19.1092570712683,
    "scale": 72223.819286
   },
   {
    "level": 14,
    "resolution": 9.55462853563415,
    "scale": 36111.909643
   },
   {
    "level": 15,
    "resolution": 4.77731426794937,
    "scale": 18055.954822
   },
   {
    "level": 16,
    "resolution": 2.38865713397468,
    "scale": 9027.977411
   },
   {
    "level": 17,
    "resolution": 1.19432856685505,
    "scale": 4513.988705
   },
   {
    "level": 18,
    "resolution": 0.597164283559817,
    "scale": 2256.994353
   },
   {
    "level": 19,
    "resolution": 0.298582141647617,
    "scale": 1128.497176
   },
   {
    "level": 20,
    "resolution": 0.14929107082380833,
    "scale": 564.248588
   },
   {
    "level": 21,
    "resolution": 0.07464553541190416,
    "scale": 282.124294
   },
   {
    "level": 22,
    "resolution": 0.03732276770595208,
    "scale": 141.062147
   },
   {
    "level": 23,
    "resolution": 0.01866138385297604,
    "scale": 70.5310735
   }
  ],
  "format": "PNG",
  "compressionQuality": 0,
  "bandCount": 1,
  "lercError": 0,
  "storageFormat": "esriMapCacheStorageModeCompactV2",
  "packetSize": 128
 },
 "name": "INDUSTRIA_T25K",
 "serviceDescription": "",
 "spatialReference": {
  "wkid": 102100,
  "latestWkid": 3857,
  "xyTolerance": 0.001,
  "zTolerance": 0.001,
  "mTolerance": 0.001,
  "falseX": -20037700,
  "falseY": -30241100,
  "xyUnits": 1.4892314192838538E8,
  "falseZ": -100000,
  "zUnits": 10000,
  "falseM": -100000,
  "mUnits": 10000
 },
 "units": "esriMeters",
 "minLOD": 5,
 "maxLOD": 19,
 "resampling": true,
 "layers": [
  {
   "id": 0,
   "name": "INDUSTRIA",
   "parentLayerId": -1,
   "defaultVisibility": true,
   "subLayerIds": [
    1,
    2,
    3,
    4,
    5,
    6,
    7,
    8,
    9,
    10,
    11,
    12,
    13,
    14,
    15
   ],
   "minScale": 0,
   "maxScale": 0,
   "type": "Group Layer",
   "supportsDynamicLegends": false,
   "layerId": 0,
   "layerName": "INDUSTRIA",
   "serviceItemId": "b330f8cd6ec54ee89177630b17f68bc9"
  },
  {
   "id": 1,
   "name": "Tanque Punto",
   "parentLayerId": 0,
   "defaultVisibility": true,
   "subLayerIds": null,
   "minScale": 0,
   "maxScale": 0,
   "type": "Feature Layer",
   "geometryType": "esriGeometryPoint",
   "supportsDynamicLegends": false,
   "legend": [
    {
     "label": "Agua",
     "imageData": "iVBORw0KGgoAAAANSUhEUgAAABQAAAAUCAYAAACNiR0NAAAACXBIWXMAAA7EAAAOxAGVKw4bAAAALElEQVQ4jWNhoDJgGTVw1MAhZOB/KM1ILQOJBsQaSNBlpBpINBg1cNRAMgAAZgEBUqdKwOQAAAAASUVORK5CYII=",
     "contentType": "image/png",
     "groupId": "0",
     "height": 20,
     "width": 20,
     "values": [
      2
     ],
     "layerId": 1,
     "layerName": "Tanque Punto"
    },
    {
     "label": "Gas",
     "imageData": "iVBORw0KGgoAAAANSUhEUgAAABQAAAAUCAYAAACNiR0NAAAACXBIWXMAAA7EAAAOxAGVKw4bAAAALElEQVQ4jWNhoDJgGTVw1MAhZOB/KM1ILQOJBsQaSNBlpBpINBg1cNRAMgAAZgEBUqdKwOQAAAAASUVORK5CYII=",
     "contentType": "image/png",
     "groupId": "0",
     "height": 20,
     "width": 20,
     "values": [
      3
     ],
     "layerId": 1,
     "layerName": "Tanque Punto"
    },
    {
     "label": "Gasolina",
     "imageData": "iVBORw0KGgoAAAANSUhEUgAAABQAAAAUCAYAAACNiR0NAAAACXBIWXMAAA7EAAAOxAGVKw4bAAAALElEQVQ4jWNhoDJgGTVw1MAhZOB/KM1ILQOJBsQaSNBlpBpINBg1cNRAMgAAZgEBUqdKwOQAAAAASUVORK5CYII=",
     "contentType": "image/png",
     "groupId": "0",
     "height": 20,
     "width": 20,
     "values": [
      4
     ],
     "layerId": 1,
     "layerName": "Tanque Punto"
    },
    {
     "label": "Petróleo",
     "imageData": "iVBORw0KGgoAAAANSUhEUgAAABQAAAAUCAYAAACNiR0NAAAACXBIWXMAAA7EAAAOxAGVKw4bAAAALElEQVQ4jWNhoDJgGTVw1MAhZOB/KM1ILQOJBsQaSNBlpBpINBg1cNRAMgAAZgEBUqdKwOQAAAAASUVORK5CYII=",
     "contentType": "image/png",
     "groupId": "0",
     "height": 20,
     "width": 20,
     "values": [
      5
     ],
     "layerId": 1,
     "layerName": "Tanque Punto"
    },
    {
     "label": "Otro",
     "imageData": "iVBORw0KGgoAAAANSUhEUgAAABQAAAAUCAYAAACNiR0NAAAACXBIWXMAAA7EAAAOxAGVKw4bAAAALElEQVQ4jWNhoDJgGTVw1MAhZOB/KM1ILQOJBsQaSNBlpBpINBg1cNRAMgAAZgEBUqdKwOQAAAAASUVORK5CYII=",
     "contentType": "image/png",
     "groupId": "0",
     "height": 20,
     "width": 20,
     "values": [
      6
     ],
     "layerId": 1,
     "layerName": "Tanque Punto"
    }
   ],
   "layerId": 1,
   "layerName": "Tanque Punto",
   "serviceItemId": "b330f8cd6ec54ee89177630b17f68bc9"
  },
  {
   "id": 2,
   "name": "Pozo",
   "parentLayerId": 0,
   "defaultVisibility": true,
   "subLayerIds": null,
   "minScale": 0,
   "maxScale": 0,
   "type": "Feature Layer",
   "geometryType": "esriGeometryPoint",
   "supportsDynamicLegends": false,
   "legend": [
    {
     "label": "Aceite",
     "imageData": "iVBORw0KGgoAAAANSUhEUgAAABQAAAAUCAYAAACNiR0NAAAACXBIWXMAAA7EAAAOxAGVKw4bAAAALElEQVQ4jWNhoDJgGTVw1MAhZOB/KM1ILQOJBsQaSNBlpBpINBg1cNRAMgAAZgEBUqdKwOQAAAAASUVORK5CYII=",
     "contentType": "image/png",
     "groupId": "0",
     "height": 20,
     "width": 20,
     "values": [
      2
     ],
     "layerId": 2,
     "layerName": "Pozo"
    },
    {
     "label": "Gas",
     "imageData": "iVBORw0KGgoAAAANSUhEUgAAABQAAAAUCAYAAACNiR0NAAAACXBIWXMAAA7EAAAOxAGVKw4bAAAALElEQVQ4jWNhoDJgGTVw1MAhZOB/KM1ILQOJBsQaSNBlpBpINBg1cNRAMgAAZgEBUqdKwOQAAAAASUVORK5CYII=",
     "contentType": "image/png",
     "groupId": "0",
     "height": 20,
     "width": 20,
     "values": [
      3
     ],
     "layerId": 2,
     "layerName": "Pozo"
    },
    {
     "label": "Petróleo",
     "imageData": "iVBORw0KGgoAAAANSUhEUgAAABQAAAAUCAYAAACNiR0NAAAACXBIWXMAAA7EAAAOxAGVKw4bAAAALElEQVQ4jWNhoDJgGTVw1MAhZOB/KM1ILQOJBsQaSNBlpBpINBg1cNRAMgAAZgEBUqdKwOQAAAAASUVORK5CYII=",
     "contentType": "image/png",
     "groupId": "0",
     "height": 20,
     "width": 20,
     "values": [
      4
     ],
     "layerId": 2,
     "layerName": "Pozo"
    },
    {
     "label": "Sal",
     "imageData": "iVBORw0KGgoAAAANSUhEUgAAABQAAAAUCAYAAACNiR0NAAAACXBIWXMAAA7EAAAOxAGVKw4bAAAALElEQVQ4jWNhoDJgGTVw1MAhZOB/KM1ILQOJBsQaSNBlpBpINBg1cNRAMgAAZgEBUqdKwOQAAAAASUVORK5CYII=",
     "contentType": "image/png",
     "groupId": "0",
     "height": 20,
     "width": 20,
     "values": [
      5
     ],
     "layerId": 2,
     "layerName": "Pozo"
    }
   ],
   "layerId": 2,
   "layerName": "Pozo",
   "serviceItemId": "b330f8cd6ec54ee89177630b17f68bc9"
  },
  {
   "id": 3,
   "name": "Sub Estacion Electrica Punto",
   "parentLayerId": 0,
   "defaultVisibility": true,
   "subLayerIds": null,
   "minScale": 0,
   "maxScale": 0,
   "type": "Feature Layer",
   "geometryType": "esriGeometryPoint",
   "supportsDynamicLegends": false,
   "legend": [
    {
     "label": "Subestación Eléctrica",
     "imageData": "iVBORw0KGgoAAAANSUhEUgAAABQAAAAUCAYAAACNiR0NAAAACXBIWXMAAA7EAAAOxAGVKw4bAAAAR0lEQVQ4je3S0QkAIAxDwQS6/8rxwwFMsCBCM8DxCi00rwb8FxQAdoIWloCAWZmAbScrga1CaZvkOfLN2zhlCehrJhhtwPstJVEGV21a3D0AAAAASUVORK5CYII=",
     "contentType": "image/png",
     "groupId": "0",
     "height": 20,
     "width": 20,
     "values": [
      2
     ],
     "layerId": 3,
     "layerName": "Sub Estacion Electrica Punto"
    }
   ],
   "layerId": 3,
   "layerName": "Sub Estacion Electrica Punto",
   "serviceItemId": "b330f8cd6ec54ee89177630b17f68bc9"
  },
  {
   "id": 4,
   "name": "Mina Punto",
   "parentLayerId": 0,
   "defaultVisibility": true,
   "subLayerIds": null,
   "minScale": 0,
   "maxScale": 0,
   "type": "Feature Layer",
   "geometryType": "esriGeometryPoint",
   "supportsDynamicLegends": false,
   "legend": [
    {
     "label": "Mina Activa",
     "imageData": "iVBORw0KGgoAAAANSUhEUgAAABQAAAAUCAYAAACNiR0NAAAACXBIWXMAAA7EAAAOxAGVKw4bAAAAS0lEQVQ4je3QsQoAIAhF0Sv4/79sUxARqeHQ4Jt0OcpTiqMNNgiAAXKYn0BzDqRBWVD3uwi4o24yHRpFHU4g9Gmkw9ueBtNp8ENwAK0LDFFqODflAAAAAElFTkSuQmCC",
     "contentType": "image/png",
     "groupId": "0",
     "height": 20,
     "width": 20,
     "values": [
      2
     ],
     "layerId": 4,
     "layerName": "Mina Punto"
    },
    {
     "label": "Mina Abandonada",
     "imageData": "iVBORw0KGgoAAAANSUhEUgAAABQAAAAUCAYAAACNiR0NAAAACXBIWXMAAA7EAAAOxAGVKw4bAAAATUlEQVQ4je3QMQoAIAxD0S94/yvrJJSCmqqDQ7M1wyO08jg1wQQBaEBZ3GHQIktMBQe0xVTQw1cLm8Fsd/zDscp306g/lDAVDCXBD8EOm1sKVd/TTBIAAAAASUVORK5CYII=",
     "contentType": "image/png",
     "groupId": "0",
     "height": 20,
     "width": 20,
     "values": [
      3
     ],
     "layerId": 4,
     "layerName": "Mina Punto"
    }
   ],
   "layerId": 4,
   "layerName": "Mina Punto",
   "serviceItemId": "b330f8cd6ec54ee89177630b17f68bc9"
  },
  {
   "id": 5,
   "name": "Fabrica Punto",
   "parentLayerId": 0,
   "defaultVisibility": true,
   "subLayerIds": null,
   "minScale": 0,
   "maxScale": 0,
   "type": "Feature Layer",
   "geometryType": "esriGeometryPoint",
   "supportsDynamicLegends": false,
   "legend": [
    {
     "label": "Fábrica",
     "imageData": "iVBORw0KGgoAAAANSUhEUgAAABQAAAAUCAYAAACNiR0NAAAACXBIWXMAAA7EAAAOxAGVKw4bAAAALElEQVQ4jWNhoDJgGTVw1MAhZOB/KM1ILQOJBsQaSNBlpBpINBg1cNRAMgAAZgEBUqdKwOQAAAAASUVORK5CYII=",
     "contentType": "image/png",
     "groupId": "0",
     "height": 20,
     "width": 20,
     "values": [
      2
     ],
     "layerId": 5,
     "layerName": "Fabrica Punto"
    }
   ],
   "layerId": 5,
   "layerName": "Fabrica Punto",
   "serviceItemId": "b330f8cd6ec54ee89177630b17f68bc9"
  },
  {
   "id": 6,
   "name": "Cantera Punto",
   "parentLayerId": 0,
   "defaultVisibility": true,
   "subLayerIds": null,
   "minScale": 0,
   "maxScale": 0,
   "type": "Feature Layer",
   "geometryType": "esriGeometryPoint",
   "supportsDynamicLegends": false,
   "legend": [
    {
     "label": "Cantera Activa",
     "imageData": "iVBORw0KGgoAAAANSUhEUgAAABQAAAAUCAYAAACNiR0NAAAACXBIWXMAAA7EAAAOxAGVKw4bAAAAS0lEQVQ4je3QsQoAIAhF0Sv4/79sUxARqeHQ4Jt0OcpTiqMNNgiAAXKYn0BzDqRBWVD3uwi4o24yHRpFHU4g9Gmkw9ueBtNp8ENwAK0LDFFqODflAAAAAElFTkSuQmCC",
     "contentType": "image/png",
     "groupId": "0",
     "height": 20,
     "width": 20,
     "values": [
      2
     ],
     "layerId": 6,
     "layerName": "Cantera Punto"
    },
    {
     "label": "Cantera Abandonada",
     "imageData": "iVBORw0KGgoAAAANSUhEUgAAABQAAAAUCAYAAACNiR0NAAAACXBIWXMAAA7EAAAOxAGVKw4bAAAATUlEQVQ4je3QMQoAIAxD0S94/yvrJJSCmqqDQ7M1wyO08jg1wQQBaEBZ3GHQIktMBQe0xVTQw1cLm8Fsd/zDscp306g/lDAVDCXBD8EOm1sKVd/TTBIAAAAASUVORK5CYII=",
     "contentType": "image/png",
     "groupId": "0",
     "height": 20,
     "width": 20,
     "values": [
      3
     ],
     "layerId": 6,
     "layerName": "Cantera Punto"
    }
   ],
   "layerId": 6,
   "layerName": "Cantera Punto",
   "serviceItemId": "b330f8cd6ec54ee89177630b17f68bc9"
  },
  {
   "id": 7,
   "name": "Tuberia",
   "parentLayerId": 0,
   "defaultVisibility": true,
   "subLayerIds": null,
   "minScale": 0,
   "maxScale": 0,
   "type": "Feature Layer",
   "geometryType": "esriGeometryPolyline",
   "supportsDynamicLegends": false,
   "legend": [
    {
     "label": "Tubería Industrial Superficial",
     "imageData": "iVBORw0KGgoAAAANSUhEUgAAABQAAAAUCAYAAACNiR0NAAAACXBIWXMAAA7EAAAOxAGVKw4bAAAAKklEQVQ4jWNhoDJgGTVw1MDhbuB/Cs1iRDeQkUIDGdANpAoYNXDUQDIAADDlAVJUyA7PAAAAAElFTkSuQmCC",
     "contentType": "image/png",
     "groupId": "0",
     "height": 20,
     "width": 20,
     "values": [
      2
     ],
     "layerId": 7,
     "layerName": "Tuberia"
    },
    {
     "label": "Tubería Industrial Subterránea",
     "imageData": "iVBORw0KGgoAAAANSUhEUgAAABQAAAAUCAYAAACNiR0NAAAACXBIWXMAAA7EAAAOxAGVKw4bAAAAMUlEQVQ4jWNhoDJgGTVw1MDhbuB/JDYjFjEGAvKM6AYyMmACbGJ45YdWGI4aOFwNBAAqoQNUqvf2fAAAAABJRU5ErkJggg==",
     "contentType": "image/png",
     "groupId": "0",
     "height": 20,
     "width": 20,
     "values": [
      3
     ],
     "layerId": 7,
     "layerName": "Tuberia"
    }
   ],
   "layerId": 7,
   "layerName": "Tuberia",
   "serviceItemId": "b330f8cd6ec54ee89177630b17f68bc9"
  },
  {
   "id": 8,
   "name": "Linea de Transmision de Energia",
   "parentLayerId": 0,
   "defaultVisibility": true,
   "subLayerIds": null,
   "minScale": 0,
   "maxScale": 0,
   "type": "Feature Layer",
   "geometryType": "esriGeometryPolyline",
   "supportsDynamicLegends": false,
   "legend": [
    {
     "label": "Línea de Transmisión de Energía",
     "imageData": "iVBORw0KGgoAAAANSUhEUgAAABQAAAAUCAYAAACNiR0NAAAACXBIWXMAAA7EAAAOxAGVKw4bAAAAZElEQVQ4je2TwQrAMAhDE+j//3J2mSCjYdjJusNy0Up5pmIHmjV+oJPOyA6gEijny0Ci2WFJ7wIlCQBIXs/26QGUu+B6mToDOO2YjNw6C1Vn2LI2pXFsW5v8Ux4DafJlYEnfBx61JRJYmnmICAAAAABJRU5ErkJggg==",
     "contentType": "image/png",
     "groupId": "0",
     "height": 20,
     "width": 20,
     "values": [
      1
     ],
     "layerId": 8,
     "layerName": "Linea de Transmision de Energia"
    }
   ],
   "layerId": 8,
   "layerName": "Linea de Transmision de Energia",
   "serviceItemId": "b330f8cd6ec54ee89177630b17f68bc9"
  },
  {
   "id": 9,
   "name": "Laguna de Oxidación",
   "parentLayerId": 0,
   "defaultVisibility": true,
   "subLayerIds": null,
   "minScale": 0,
   "maxScale": 0,
   "type": "Feature Layer",
   "geometryType": "esriGeometryPolygon",
   "supportsDynamicLegends": false,
   "legend": [
    {
     "label": "Laguna de Oxidación",
     "imageData": "iVBORw0KGgoAAAANSUhEUgAAABQAAAAUCAYAAACNiR0NAAAACXBIWXMAAA7EAAAOxAGVKw4bAAAAhUlEQVQ4jbWUywkAIQxER0g1VrIlW8m2k73IfjAxiXG9KMP4ID6QADA2Lup7wXEyWi1DQ8r17AYCrcpQKdcygMm8HIG+Rt4GJfFNElCKjmR0DSlRqEtKBAqvlADUL8UJjUmxoQtSZtBlKRoUGSluy0mobDkB1S2vQf/7D7mHz/kLHXOlewFmvPZZPCg7hgAAAABJRU5ErkJggg==",
     "contentType": "image/png",
     "groupId": "0",
     "height": 20,
     "width": 20,
     "values": [
      2
     ],
     "layerId": 9,
     "layerName": "Laguna de Oxidación"
    }
   ],
   "layerId": 9,
   "layerName": "Laguna de Oxidación",
   "serviceItemId": "b330f8cd6ec54ee89177630b17f68bc9"
  },
  {
   "id": 10,
   "name": "Relleno Sanitario",
   "parentLayerId": 0,
   "defaultVisibility": true,
   "subLayerIds": null,
   "minScale": 0,
   "maxScale": 0,
   "type": "Feature Layer",
   "geometryType": "esriGeometryPolygon",
   "supportsDynamicLegends": false,
   "legend": [
    {
     "label": "Relleno Sanitario",
     "imageData": "iVBORw0KGgoAAAANSUhEUgAAABQAAAAUCAYAAACNiR0NAAAACXBIWXMAAA7EAAAOxAGVKw4bAAAASklEQVQ4jWNhYGD4z4AbMGKRxyYGByxIivAZSowYAwMDw38WHBJkg1EDqWMgvhgmFTCyMEDSFLUMHanJZjRSRg0k00BcRTrJVQAAWucLUwl+aQkAAAAASUVORK5CYII=",
     "contentType": "image/png",
     "groupId": "0",
     "height": 20,
     "width": 20,
     "values": [
      2
     ],
     "layerId": 10,
     "layerName": "Relleno Sanitario"
    }
   ],
   "layerId": 10,
   "layerName": "Relleno Sanitario",
   "serviceItemId": "b330f8cd6ec54ee89177630b17f68bc9"
  },
  {
   "id": 11,
   "name": "Central Electrica Área",
   "parentLayerId": 0,
   "defaultVisibility": true,
   "subLayerIds": null,
   "minScale": 0,
   "maxScale": 0,
   "type": "Feature Layer",
   "geometryType": "esriGeometryPolygon",
   "supportsDynamicLegends": false,
   "legend": [
    {
     "label": "Central Eléctrica",
     "imageData": "iVBORw0KGgoAAAANSUhEUgAAABQAAAAUCAYAAACNiR0NAAAACXBIWXMAAA7EAAAOxAGVKw4bAAAALUlEQVQ4jWNhYGD4z0BFwAKlGalk3n8WwmpIA6MGjho4auCogaMGohpItWoAAFaOA08xGWr1AAAAAElFTkSuQmCC",
     "contentType": "image/png",
     "groupId": "0",
     "height": 20,
     "width": 20,
     "values": [
      2
     ],
     "layerId": 11,
     "layerName": "Central Electrica Área"
    }
   ],
   "layerId": 11,
   "layerName": "Central Electrica Área",
   "serviceItemId": "b330f8cd6ec54ee89177630b17f68bc9"
  },
  {
   "id": 12,
   "name": "Planta de Tratamiento de Agua Punto",
   "parentLayerId": 0,
   "defaultVisibility": true,
   "subLayerIds": null,
   "minScale": 0,
   "maxScale": 0,
   "type": "Feature Layer",
   "geometryType": "esriGeometryPolygon",
   "supportsDynamicLegends": false,
   "legend": [
    {
     "label": "Poza de Tratamiento de Agua",
     "imageData": "iVBORw0KGgoAAAANSUhEUgAAABQAAAAUCAYAAACNiR0NAAAACXBIWXMAAA7EAAAOxAGVKw4bAAAAMklEQVQ4je3MMREAQAgDwcsMKhGITSi+eQEpswK2gMWoAGY9Z0svdEqYMGHChF/Yki08U7AErHKct3kAAAAASUVORK5CYII=",
     "contentType": "image/png",
     "groupId": "0",
     "height": 20,
     "width": 20,
     "values": [
      2
     ],
     "layerId": 12,
     "layerName": "Planta de Tratamiento de Agua Punto"
    },
    {
     "label": "Planta de Tratamiento de Agua",
     "imageData": "iVBORw0KGgoAAAANSUhEUgAAABQAAAAUCAYAAACNiR0NAAAACXBIWXMAAA7EAAAOxAGVKw4bAAAALUlEQVQ4jWNhYGD4z0BFwAKlGalk3n8WwmpIA6MGjho4auCogaMGohpItWoAAFaOA08xGWr1AAAAAElFTkSuQmCC",
     "contentType": "image/png",
     "groupId": "0",
     "height": 20,
     "width": 20,
     "values": [
      3
     ],
     "layerId": 12,
     "layerName": "Planta de Tratamiento de Agua Punto"
    }
   ],
   "layerId": 12,
   "layerName": "Planta de Tratamiento de Agua Punto",
   "serviceItemId": "b330f8cd6ec54ee89177630b17f68bc9"
  },
  {
   "id": 13,
   "name": "Fabrica Área",
   "parentLayerId": 0,
   "defaultVisibility": true,
   "subLayerIds": null,
   "minScale": 0,
   "maxScale": 0,
   "type": "Feature Layer",
   "geometryType": "esriGeometryPolygon",
   "supportsDynamicLegends": false,
   "legend": [
    {
     "label": "Fabrica",
     "imageData": "iVBORw0KGgoAAAANSUhEUgAAABQAAAAUCAYAAACNiR0NAAAACXBIWXMAAA7EAAAOxAGVKw4bAAAALUlEQVQ4jWNhYGD4z0BFwAKlGalk3n8WwmpIA6MGjho4auCogaMGohpItWoAAFaOA08xGWr1AAAAAElFTkSuQmCC",
     "contentType": "image/png",
     "groupId": "0",
     "height": 20,
     "width": 20,
     "values": [
      2
     ],
     "layerId": 13,
     "layerName": "Fabrica Área"
    }
   ],
   "layerId": 13,
   "layerName": "Fabrica Área",
   "serviceItemId": "b330f8cd6ec54ee89177630b17f68bc9"
  },
  {
   "id": 14,
   "name": "Criadero",
   "parentLayerId": 0,
   "defaultVisibility": true,
   "subLayerIds": null,
   "minScale": 0,
   "maxScale": 0,
   "type": "Feature Layer",
   "geometryType": "esriGeometryPolygon",
   "supportsDynamicLegends": false,
   "legend": [
    {
     "label": "Granja Galpón",
     "imageData": "iVBORw0KGgoAAAANSUhEUgAAABQAAAAUCAYAAACNiR0NAAAACXBIWXMAAA7EAAAOxAGVKw4bAAAALUlEQVQ4jWNhYGD4z0BFwAKlGalk3n8WwmpIA6MGjho4auCogaMGohpItWoAAFaOA08xGWr1AAAAAElFTkSuQmCC",
     "contentType": "image/png",
     "groupId": "0",
     "height": 20,
     "width": 20,
     "values": [
      2
     ],
     "layerId": 14,
     "layerName": "Criadero"
    },
    {
     "label": "Granja Límite",
     "imageData": "iVBORw0KGgoAAAANSUhEUgAAABQAAAAUCAYAAACNiR0NAAAACXBIWXMAAA7EAAAOxAGVKw4bAAAAVUlEQVQ4jWNhYGD4zwABjFAaxoeJIfOxiaHoY0ETRGdj4+MT+8+CQ5JcwMhCWA1pgIUB4ndqufI/TVxIdQOpHikjMAypbuBopFBu4AgtbZANpagKAAC2MBNXqhf28wAAAABJRU5ErkJggg==",
     "contentType": "image/png",
     "groupId": "0",
     "height": 20,
     "width": 20,
     "values": [
      3
     ],
     "layerId": 14,
     "layerName": "Criadero"
    },
    {
     "label": "Piscigranja",
     "imageData": "iVBORw0KGgoAAAANSUhEUgAAABQAAAAUCAYAAACNiR0NAAAACXBIWXMAAA7EAAAOxAGVKw4bAAAANUlEQVQ4jWNh8Lj2n4GKgIWBgYFh2XZNqhgW5XkdYiA1waiBowaOGjhq4KiBSAZGeV6nmoEAZWMG6FwHu6wAAAAASUVORK5CYII=",
     "contentType": "image/png",
     "groupId": "0",
     "height": 20,
     "width": 20,
     "values": [
      4
     ],
     "layerId": 14,
     "layerName": "Criadero"
    },
    {
     "label": "Langostinera",
     "imageData": "iVBORw0KGgoAAAANSUhEUgAAABQAAAAUCAYAAACNiR0NAAAACXBIWXMAAA7EAAAOxAGVKw4bAAAANUlEQVQ4jWNh8Lj2n4GKgIWBgYFh2XZNqhgW5XkdYiA1waiBowaOGjhq4KiBSAZGeV6nmoEAZWMG6FwHu6wAAAAASUVORK5CYII=",
     "contentType": "image/png",
     "groupId": "0",
     "height": 20,
     "width": 20,
     "values": [
      5
     ],
     "layerId": 14,
     "layerName": "Criadero"
    }
   ],
   "layerId": 14,
   "layerName": "Criadero",
   "serviceItemId": "b330f8cd6ec54ee89177630b17f68bc9"
  },
  {
   "id": 15,
   "name": "Cantera Área",
   "parentLayerId": 0,
   "defaultVisibility": true,
   "subLayerIds": null,
   "minScale": 0,
   "maxScale": 0,
   "type": "Feature Layer",
   "geometryType": "esriGeometryPolygon",
   "supportsDynamicLegends": false,
   "legend": [
    {
     "label": "Cantera",
     "imageData": "iVBORw0KGgoAAAANSUhEUgAAABQAAAAUCAYAAACNiR0NAAAACXBIWXMAAA7EAAAOxAGVKw4bAAAAVUlEQVQ4jWNhYGD4zwABjFAaxoeJIfOxiaHoY0ETRGdj4+MT+8+CQ5JcwMhCWA1pgIUB4ndqufI/TVxIdQOpHikjMAypbuBopFBu4AgtbZANpagKAAC2MBNXqhf28wAAAABJRU5ErkJggg==",
     "contentType": "image/png",
     "groupId": "0",
     "height": 20,
     "width": 20,
     "values": [
      2
     ],
     "layerId": 15,
     "layerName": "Cantera Área"
    }
   ],
   "layerId": 15,
   "layerName": "Cantera Área",
   "serviceItemId": "b330f8cd6ec54ee89177630b17f68bc9"
  }
 ],
 "initialExtent": {
  "xmin": -9030793.685706256,
  "ymin": -473569.430030217,
  "xmax": -8919474.226527715,
  "ymax": -375920.8438189346,
  "spatialReference": {
   "wkid": 102100,
   "latestWkid": 3857,
   "xyTolerance": 0.001,
   "zTolerance": 0.001,
   "mTolerance": 0.001,
   "falseX": -20037700,
   "falseY": -30241100,
   "xyUnits": 1.4892314192838538E8,
   "falseZ": -100000,
   "zUnits": 10000,
   "falseM": -100000,
   "mUnits": 10000
  }
 },
 "fullExtent": {
  "xmin": -9030793.685706256,
  "ymin": -473569.430030217,
  "xmax": -8919474.226527715,
  "ymax": -375920.8438189346,
  "spatialReference": {
   "wkid": 102100,
   "latestWkid": 3857,
   "xyTolerance": 0.001,
   "zTolerance": 0.001,
   "mTolerance": 0.001,
   "falseX": -20037700,
   "falseY": -30241100,
   "xyUnits": 1.4892314192838538E8,
   "falseZ": -100000,
   "zUnits": 10000,
   "falseM": -100000,
   "mUnits": 10000
  }
 },
 "minScale": 0,
 "maxScale": 0,
 "exportTilesAllowed": false,
 "maxExportTilesCount": 0,
 "currentVersion": 11.2,
 "mapName": "INDUSTRIA_T25K",
 "singleFusedMapCache": true,
 "type": "MapServer",
 "supportedExtensions": "",
 "capabilities": "TilesOnly,Tilemap",
 "serviceItemId": "b330f8cd6ec54ee89177630b17f68bc9"
}
