{
 "version": 1.0,
 "tileBundlesPath": "./tile",
 "storageInfo": {
  "packetSize": 128,
  "storageFormat": "esriMapCacheStorageModeCompactV2"
 },
 "tileImageInfo": {
  "format": "MIXED",
  "compressionQuality": 75,
  "bandCount": 1,
  "lercError": 0
 },
 "tileInfo": {
  "spatialReference": {
   "wkid": 102100,
   "latestWkid": 3857
  },
  "origin": {
   "x": -2.0037508342787E7,
   "y": 2.0037508342787E7
  },
  "rows": 256,
  "cols": 256,
  "dpi": 96,
  "lods": [
   {
    "level": 0,
    "resolution": 156543.033928,
    "scale": 5.91657527591555E8
   },
   {
    "level": 1,
    "resolution": 78271.5169639999,
    "scale": 2.95828763795777E8
   },
   {
    "level": 2,
    "resolution": 39135.7584820001,
    "scale": 1.47914381897889E8
   },
   {
    "level": 3,
    "resolution": 19567.8792409999,
    "scale": 7.3957190948944E7
   },
   {
    "level": 4,
    "resolution": 9783.93962049996,
    "scale": 3.6978595474472E7
   },
   {
    "level": 5,
    "resolution": 4891.96981024998,
    "scale": 1.8489297737236E7
   },
   {
    "level": 6,
    "resolution": 2445.98490512499,
    "scale": 9244648.868618
   },
   {
    "level": 7,
    "resolution": 1222.99245256249,
    "scale": 4622324.434309
   },
   {
    "level": 8,
    "resolution": 611.49622628138,
    "scale": 2311162.217155
   },
   {
    "level": 9,
    "resolution": 305.748113140558,
    "scale": 1155581.108577
   },
   {
    "level": 10,
    "resolution": 152.874056570411,
    "scale": 577790.554289
   },
   {
    "level": 11,
    "resolution": 76.4370282850732,
    "scale": 288895.277144
   },
   {
    "level": 12,
    "resolution": 38.2185141425366,
    "scale": 144447.638572
   },
   {
    "level": 13,
    "resolution": 19.1092570712683,
    "scale": 72223.819286
   },
   {
    "level": 14,
    "resolution": 9.55462853563415,
    "scale": 36111.909643
   },
   {
    "level": 15,
    "resolution": 4.77731426794937,
    "scale": 18055.954822
   },
   {
    "level": 16,
    "resolution": 2.38865713397468,
    "scale": 9027.977411
   },
   {
    "level": 17,
    "resolution": 1.19432856685505,
    "scale": 4513.988705
   },
   {
    "level": 18,
    "resolution": 0.597164283559817,
    "scale": 2256.994353
   },
   {
    "level": 19,
    "resolution": 0.298582141647617,
    "scale": 1128.497176
   },
   {
    "level": 20,
    "resolution": 0.14929107082380833,
    "scale": 564.248588
   },
   {
    "level": 21,
    "resolution": 0.07464553541190416,
    "scale": 282.124294
   },
   {
    "level": 22,
    "resolution": 0.03732276770595208,
    "scale": 141.062147
   },
   {
    "level": 23,
    "resolution": 0.01866138385297604,
    "scale": 70.5310735
   }
  ],
  "format": "MIXED",
  "compressionQuality": 75,
  "bandCount": 1,
  "lercError": 0,
  "storageFormat": "esriMapCacheStorageModeCompactV2",
  "packetSize": 128
 },
 "name": "HIDROGRAFIA_100K",
 "serviceDescription": "",
 "spatialReference": {
  "wkid": 102100,
  "latestWkid": 3857,
  "xyTolerance": 0.001,
  "zTolerance": 0.001,
  "mTolerance": 0.001,
  "falseX": -20037700,
  "falseY": -30241100,
  "xyUnits": 1.4892314192838538E8,
  "falseZ": -100000,
  "zUnits": 10000,
  "falseM": -100000,
  "mUnits": 10000
 },
 "units": "esriMeters",
 "minLOD": 0,
 "maxLOD": 17,
 "resampling": true,
 "layers": [
  {
   "id": 0,
   "name": "Rio Lineal",
   "parentLayerId": -1,
   "defaultVisibility": true,
   "subLayerIds": null,
   "minScale": 0,
   "maxScale": 0,
   "type": "Feature Layer",
   "geometryType": "esriGeometryPolyline",
   "supportsDynamicLegends": true,
   "legend": [
    {
     "label": "Acéquia",
     "imageData": "iVBORw0KGgoAAAANSUhEUgAAABQAAAAUCAYAAACNiR0NAAAACXBIWXMAAA7EAAAOxAGVKw4bAAAAN0lEQVQ4jWNhoDJgGTVw1MBhbaCQ7an/+BS+O2zGiE/Nu8NmjCgGwgQIGUq0C6kFRg0cNZAMAAB9xQwhi8+MmwAAAABJRU5ErkJggg==",
     "contentType": "image/png",
     "groupId": "0",
     "height": 20,
     "width": 20,
     "values": [
      "Acéquia"
     ],
     "layerId": 0,
     "layerName": "Rio Lineal"
    },
    {
     "label": "Arroyo",
     "imageData": "iVBORw0KGgoAAAANSUhEUgAAABQAAAAUCAYAAACNiR0NAAAACXBIWXMAAA7EAAAOxAGVKw4bAAAAN0lEQVQ4jWNhoDJgGTVw1MBhbaCQ7an/+BS+O2zGiE/Nu8NmjCgGwgQIGUq0C6kFRg0cNZAMAAB9xQwhi8+MmwAAAABJRU5ErkJggg==",
     "contentType": "image/png",
     "groupId": "0",
     "height": 20,
     "width": 20,
     "values": [
      "Arroyo"
     ],
     "layerId": 0,
     "layerName": "Rio Lineal"
    },
    {
     "label": "Brazo de Rio",
     "imageData": "iVBORw0KGgoAAAANSUhEUgAAABQAAAAUCAYAAACNiR0NAAAACXBIWXMAAA7EAAAOxAGVKw4bAAAAN0lEQVQ4jWNhoDJgGTVw1MBhbaCQ7an/+BS+O2zGiE/Nu8NmjCgGwgQIGUq0C6kFRg0cNZAMAAB9xQwhi8+MmwAAAABJRU5ErkJggg==",
     "contentType": "image/png",
     "groupId": "0",
     "height": 20,
     "width": 20,
     "values": [
      "Brazo de Rio"
     ],
     "layerId": 0,
     "layerName": "Rio Lineal"
    },
    {
     "label": "Caño",
     "imageData": "iVBORw0KGgoAAAANSUhEUgAAABQAAAAUCAYAAACNiR0NAAAACXBIWXMAAA7EAAAOxAGVKw4bAAAAN0lEQVQ4jWNhoDJgGTVw1MBhbaCQ7an/+BS+O2zGiE/Nu8NmjCgGwgQIGUq0C6kFRg0cNZAMAAB9xQwhi8+MmwAAAABJRU5ErkJggg==",
     "contentType": "image/png",
     "groupId": "0",
     "height": 20,
     "width": 20,
     "values": [
      "Caño"
     ],
     "layerId": 0,
     "layerName": "Rio Lineal"
    },
    {
     "label": "Estero",
     "imageData": "iVBORw0KGgoAAAANSUhEUgAAABQAAAAUCAYAAACNiR0NAAAACXBIWXMAAA7EAAAOxAGVKw4bAAAAN0lEQVQ4jWNhoDJgGTVw1MBhbaCQ7an/+BS+O2zGiE/Nu8NmjCgGwgQIGUq0C6kFRg0cNZAMAAB9xQwhi8+MmwAAAABJRU5ErkJggg==",
     "contentType": "image/png",
     "groupId": "0",
     "height": 20,
     "width": 20,
     "values": [
      "Estero"
     ],
     "layerId": 0,
     "layerName": "Rio Lineal"
    },
    {
     "label": "Quebrada",
     "imageData": "iVBORw0KGgoAAAANSUhEUgAAABQAAAAUCAYAAACNiR0NAAAACXBIWXMAAA7EAAAOxAGVKw4bAAAAN0lEQVQ4jWNhoDJgGTVw1MBhbaCQ7an/+BS+O2zGiE/Nu8NmjCgGwgQIGUq0C6kFRg0cNZAMAAB9xQwhi8+MmwAAAABJRU5ErkJggg==",
     "contentType": "image/png",
     "groupId": "0",
     "height": 20,
     "width": 20,
     "values": [
      "Quebrada"
     ],
     "layerId": 0,
     "layerName": "Rio Lineal"
    },
    {
     "label": "Rio",
     "imageData": "iVBORw0KGgoAAAANSUhEUgAAABQAAAAUCAYAAACNiR0NAAAACXBIWXMAAA7EAAAOxAGVKw4bAAAAL0lEQVQ4jWNhoDJgGTVw1MBha6CQ7an/1DDs3WEzRhYYgxoGMjAMmTAcNXCYGwgAeNgGOb+JyWYAAAAASUVORK5CYII=",
     "contentType": "image/png",
     "groupId": "0",
     "height": 20,
     "width": 20,
     "values": [
      "Rio"
     ],
     "layerId": 0,
     "layerName": "Rio Lineal"
    }
   ],
   "layerId": 0,
   "layerName": "Rio Lineal",
   "serviceItemId": "640cfdfc4d864e8a982962b5643a5125"
  },
  {
   "id": 1,
   "name": "Lago y Laguna",
   "parentLayerId": -1,
   "defaultVisibility": true,
   "subLayerIds": null,
   "minScale": 0,
   "maxScale": 0,
   "type": "Feature Layer",
   "geometryType": "esriGeometryPolygon",
   "supportsDynamicLegends": true,
   "legend": [
    {
     "label": "",
     "imageData": "iVBORw0KGgoAAAANSUhEUgAAABQAAAAUCAYAAACNiR0NAAAACXBIWXMAAA7EAAAOxAGVKw4bAAAANUlEQVQ4jWNh8Lj2n4GKgIWBgYFh2XZNqhgW5XkdYiA1waiBowaOGjhq4KiBSAZGeV6nmoEAZWMG6FwHu6wAAAAASUVORK5CYII=",
     "contentType": "image/png",
     "groupId": "0",
     "height": 20,
     "width": 20,
     "layerId": 1,
     "layerName": "Lago y Laguna"
    }
   ],
   "layerId": 1,
   "layerName": "Lago y Laguna",
   "serviceItemId": "640cfdfc4d864e8a982962b5643a5125"
  },
  {
   "id": 2,
   "name": "Rio Area",
   "parentLayerId": -1,
   "defaultVisibility": true,
   "subLayerIds": null,
   "minScale": 0,
   "maxScale": 0,
   "type": "Feature Layer",
   "geometryType": "esriGeometryPolygon",
   "supportsDynamicLegends": true,
   "legend": [
    {
     "label": "",
     "imageData": "iVBORw0KGgoAAAANSUhEUgAAABQAAAAUCAYAAACNiR0NAAAACXBIWXMAAA7EAAAOxAGVKw4bAAAANUlEQVQ4jWNh8Lj2n4GKgIWBgYFh2XZNqhgW5XkdYiA1waiBowaOGjhq4KiBSAZGeV6nmoEAZWMG6FwHu6wAAAAASUVORK5CYII=",
     "contentType": "image/png",
     "groupId": "0",
     "height": 20,
     "width": 20,
     "layerId": 2,
     "layerName": "Rio Area"
    }
   ],
   "layerId": 2,
   "layerName": "Rio Area",
   "serviceItemId": "640cfdfc4d864e8a982962b5643a5125"
  }
 ],
 "initialExtent": {
  "xmin": -9050087.182773925,
  "ymin": -2076842.1766546115,
  "xmax": -7642211.957162459,
  "ymax": -4316.599154621762,
  "spatialReference": {
   "wkid": 102100,
   "latestWkid": 3857,
   "xyTolerance": 0.001,
   "zTolerance": 0.001,
   "mTolerance": 0.001,
   "falseX": -20037700,
   "falseY": -30241100,
   "xyUnits": 1.4892314192838538E8,
   "falseZ": -100000,
   "zUnits": 10000,
   "falseM": -100000,
   "mUnits": 10000
  }
 },
 "fullExtent": {
  "xmin": -9050087.182773925,
  "ymin": -2076842.1766546115,
  "xmax": -7642211.957162459,
  "ymax": -4316.599154621762,
  "spatialReference": {
   "wkid": 102100,
   "latestWkid": 3857,
   "xyTolerance": 0.001,
   "zTolerance": 0.001,
   "mTolerance": 0.001,
   "falseX": -20037700,
   "falseY": -30241100,
   "xyUnits": 1.4892314192838538E8,
   "falseZ": -100000,
   "zUnits": 10000,
   "falseM": -100000,
   "mUnits": 10000
  }
 },
 "minScale": 0,
 "maxScale": 0,
 "exportTilesAllowed": false,
 "maxExportTilesCount": 0,
 "currentVersion": 11.2,
 "mapName": "HIDROGRAFIA_100K",
 "singleFusedMapCache": true,
 "type": "MapServer",
 "supportedExtensions": "",
 "capabilities": "TilesOnly,Tilemap",
 "serviceItemId": "640cfdfc4d864e8a982962b5643a5125"
}
