{
 "version": 1.0,
 "tileBundlesPath": "./tile",
 "storageInfo": {
  "packetSize": 128,
  "storageFormat": "esriMapCacheStorageModeCompactV2"
 },
 "tileImageInfo": {
  "format": "PNG",
  "compressionQuality": 0,
  "bandCount": 1,
  "lercError": 0
 },
 "tileInfo": {
  "spatialReference": {
   "wkid": 102100,
   "latestWkid": 3857
  },
  "origin": {
   "x": -2.0037508342787E7,
   "y": 2.0037508342787E7
  },
  "rows": 256,
  "cols": 256,
  "dpi": 96,
  "lods": [
   {
    "level": 0,
    "resolution": 156543.033928,
    "scale": 5.91657527591555E8
   },
   {
    "level": 1,
    "resolution": 78271.5169639999,
    "scale": 2.95828763795777E8
   },
   {
    "level": 2,
    "resolution": 39135.7584820001,
    "scale": 1.47914381897889E8
   },
   {
    "level": 3,
    "resolution": 19567.8792409999,
    "scale": 7.3957190948944E7
   },
   {
    "level": 4,
    "resolution": 9783.93962049996,
    "scale": 3.6978595474472E7
   },
   {
    "level": 5,
    "resolution": 4891.96981024998,
    "scale": 1.8489297737236E7
   },
   {
    "level": 6,
    "resolution": 2445.98490512499,
    "scale": 9244648.868618
   },
   {
    "level": 7,
    "resolution": 1222.99245256249,
    "scale": 4622324.434309
   },
   {
    "level": 8,
    "resolution": 611.49622628138,
    "scale": 2311162.217155
   },
   {
    "level": 9,
    "resolution": 305.748113140558,
    "scale": 1155581.108577
   },
   {
    "level": 10,
    "resolution": 152.874056570411,
    "scale": 577790.554289
   },
   {
    "level": 11,
    "resolution": 76.4370282850732,
    "scale": 288895.277144
   },
   {
    "level": 12,
    "resolution": 38.2185141425366,
    "scale": 144447.638572
   },
   {
    "level": 13,
    "resolution": 19.1092570712683,
    "scale": 72223.819286
   },
   {
    "level": 14,
    "resolution": 9.55462853563415,
    "scale": 36111.909643
   },
   {
    "level": 15,
    "resolution": 4.77731426794937,
    "scale": 18055.954822
   },
   {
    "level": 16,
    "resolution": 2.38865713397468,
    "scale": 9027.977411
   },
   {
    "level": 17,
    "resolution": 1.19432856685505,
    "scale": 4513.988705
   },
   {
    "level": 18,
    "resolution": 0.597164283559817,
    "scale": 2256.994353
   },
   {
    "level": 19,
    "resolution": 0.298582141647617,
    "scale": 1128.497176
   },
   {
    "level": 20,
    "resolution": 0.14929107082380833,
    "scale": 564.248588
   },
   {
    "level": 21,
    "resolution": 0.07464553541190416,
    "scale": 282.124294
   },
   {
    "level": 22,
    "resolution": 0.03732276770595208,
    "scale": 141.062147
   },
   {
    "level": 23,
    "resolution": 0.01866138385297604,
    "scale": 70.5310735
   }
  ],
  "format": "PNG",
  "compressionQuality": 0,
  "bandCount": 1,
  "lercError": 0,
  "storageFormat": "esriMapCacheStorageModeCompactV2",
  "packetSize": 128
 },
 "name": "FISIOGRAFIA_LL25KkK",
 "serviceDescription": "",
 "spatialReference": {
  "wkid": 102100,
  "latestWkid": 3857,
  "xyTolerance": 0.001,
  "zTolerance": 0.001,
  "mTolerance": 0.001,
  "falseX": -20037700,
  "falseY": -30241100,
  "xyUnits": 1.4892314192838538E8,
  "falseZ": -100000,
  "zUnits": 10000,
  "falseM": -100000,
  "mUnits": 10000
 },
 "units": "esriMeters",
 "minLOD": 5,
 "maxLOD": 19,
 "resampling": true,
 "layers": [
  {
   "id": 0,
   "name": "FISIOGRAFÍA",
   "parentLayerId": -1,
   "defaultVisibility": true,
   "subLayerIds": [
    1,
    2,
    3,
    4,
    5,
    6,
    7
   ],
   "minScale": 0,
   "maxScale": 0,
   "type": "Group Layer",
   "supportsDynamicLegends": false,
   "layerId": 0,
   "layerName": "FISIOGRAFÍA",
   "serviceItemId": "0118a9d563ab4b78b59e821a80f0264c"
  },
  {
   "id": 1,
   "name": "Cota",
   "parentLayerId": 0,
   "defaultVisibility": true,
   "subLayerIds": null,
   "minScale": 50000,
   "maxScale": 0,
   "type": "Feature Layer",
   "geometryType": "esriGeometryPoint",
   "supportsDynamicLegends": false,
   "legend": [
    {
     "label": "Cota máxima",
     "imageData": "iVBORw0KGgoAAAANSUhEUgAAABQAAAAUCAYAAACNiR0NAAAACXBIWXMAAA7EAAAOxAGVKw4bAAAALUlEQVQ4jWNhoDJgGTVw1MAhZOB/KM1ILQMZkQylioEwQ6lqIFFg1MBRA8kAAGQuAlK2KGAoAAAAAElFTkSuQmCC",
     "contentType": "image/png",
     "groupId": "0",
     "height": 20,
     "width": 20,
     "values": [
      2
     ],
     "layerId": 1,
     "layerName": "Cota"
    },
    {
     "label": "Cota normal",
     "imageData": "iVBORw0KGgoAAAANSUhEUgAAABQAAAAUCAYAAACNiR0NAAAACXBIWXMAAA7EAAAOxAGVKw4bAAAALUlEQVQ4jWNhoDJgGTVw1MAhZOB/KM1ILQMZkQylioEwQ6lqIFFg1MBRA8kAAGQuAlK2KGAoAAAAAElFTkSuQmCC",
     "contentType": "image/png",
     "groupId": "0",
     "height": 20,
     "width": 20,
     "values": [
      3
     ],
     "layerId": 1,
     "layerName": "Cota"
    },
    {
     "label": "Cota sobre nieve",
     "imageData": "iVBORw0KGgoAAAANSUhEUgAAABQAAAAUCAYAAACNiR0NAAAACXBIWXMAAA7EAAAOxAGVKw4bAAAALUlEQVQ4jWNhoDJgGTVw1MAhZOB/KM1ILQMZkQylioEwQ6lqIFFg1MBRA8kAAGQuAlK2KGAoAAAAAElFTkSuQmCC",
     "contentType": "image/png",
     "groupId": "0",
     "height": 20,
     "width": 20,
     "values": [
      4
     ],
     "layerId": 1,
     "layerName": "Cota"
    },
    {
     "label": "Cota aproximada",
     "imageData": "iVBORw0KGgoAAAANSUhEUgAAABQAAAAUCAYAAACNiR0NAAAACXBIWXMAAA7EAAAOxAGVKw4bAAAALUlEQVQ4jWNhoDJgGTVw1MAhZOB/KM1ILQMZkQylioEwQ6lqIFFg1MBRA8kAAGQuAlK2KGAoAAAAAElFTkSuQmCC",
     "contentType": "image/png",
     "groupId": "0",
     "height": 20,
     "width": 20,
     "values": [
      5
     ],
     "layerId": 1,
     "layerName": "Cota"
    }
   ],
   "layerId": 1,
   "layerName": "Cota",
   "serviceItemId": "0118a9d563ab4b78b59e821a80f0264c"
  },
  {
   "id": 2,
   "name": "Curva de Nivel L",
   "parentLayerId": 0,
   "defaultVisibility": true,
   "subLayerIds": null,
   "minScale": 150000,
   "maxScale": 0,
   "type": "Feature Layer",
   "geometryType": "esriGeometryPolyline",
   "supportsDynamicLegends": false,
   "legend": [
    {
     "label": "Curva Índice-Tierra",
     "imageData": "iVBORw0KGgoAAAANSUhEUgAAABQAAAAUCAYAAACNiR0NAAAACXBIWXMAAA7EAAAOxAGVKw4bAAAALUlEQVQ4jWNhoDJgGTVw1MBhbeBMEbX/lBiU/uYWI4qBMAFKwRAKw1EDh7GBACJ2Bn8gl71YAAAAAElFTkSuQmCC",
     "contentType": "image/png",
     "groupId": "0",
     "height": 20,
     "width": 20,
     "values": [
      2
     ],
     "layerId": 2,
     "layerName": "Curva de Nivel L"
    },
    {
     "label": "Curva Intermedia-Tierra",
     "imageData": "iVBORw0KGgoAAAANSUhEUgAAABQAAAAUCAYAAACNiR0NAAAACXBIWXMAAA7EAAAOxAGVKw4bAAAALUlEQVQ4jWNhoDJgGTVw1MBhbeBMEbX/lBiU/uYWI4qBMAFKwRAKw1EDh7GBACJ2Bn8gl71YAAAAAElFTkSuQmCC",
     "contentType": "image/png",
     "groupId": "0",
     "height": 20,
     "width": 20,
     "values": [
      3
     ],
     "layerId": 2,
     "layerName": "Curva de Nivel L"
    },
    {
     "label": "Curva Índice-Nieve",
     "imageData": "iVBORw0KGgoAAAANSUhEUgAAABQAAAAUCAYAAACNiR0NAAAACXBIWXMAAA7EAAAOxAGVKw4bAAAAK0lEQVQ4jWNhoDJgGTVw1MDhbaDHtf8UmbRDixHVQKgApWAoheGogcPXQACycQQ0jtrOSQAAAABJRU5ErkJggg==",
     "contentType": "image/png",
     "groupId": "0",
     "height": 20,
     "width": 20,
     "values": [
      4
     ],
     "layerId": 2,
     "layerName": "Curva de Nivel L"
    },
    {
     "label": "Curva Intermedia-Nieve",
     "imageData": "iVBORw0KGgoAAAANSUhEUgAAABQAAAAUCAYAAACNiR0NAAAACXBIWXMAAA7EAAAOxAGVKw4bAAAAK0lEQVQ4jWNhoDJgGTVw1MDhbaDHtf8UmbRDixHVQKgApWAoheGogcPXQACycQQ0jtrOSQAAAABJRU5ErkJggg==",
     "contentType": "image/png",
     "groupId": "0",
     "height": 20,
     "width": 20,
     "values": [
      5
     ],
     "layerId": 2,
     "layerName": "Curva de Nivel L"
    }
   ],
   "layerId": 2,
   "layerName": "Curva de Nivel L",
   "serviceItemId": "0118a9d563ab4b78b59e821a80f0264c"
  },
  {
   "id": 3,
   "name": "Curva de Depresión",
   "parentLayerId": 0,
   "defaultVisibility": true,
   "subLayerIds": null,
   "minScale": 0,
   "maxScale": 0,
   "type": "Feature Layer",
   "geometryType": "esriGeometryPolyline",
   "supportsDynamicLegends": false,
   "legend": [
    {
     "label": "Curva Depresión Intermedia 1er Nivel",
     "imageData": "iVBORw0KGgoAAAANSUhEUgAAABQAAAAUCAYAAACNiR0NAAAACXBIWXMAAA7EAAAOxAGVKw4bAAAALUlEQVQ4jWNhoDJgGTVw1MBhbeBMEbX/lBiU/uYWI4qBMAFKwRAKw1EDh7GBACJ2Bn8gl71YAAAAAElFTkSuQmCC",
     "contentType": "image/png",
     "groupId": "0",
     "height": 20,
     "width": 20,
     "values": [
      2
     ],
     "layerId": 3,
     "layerName": "Curva de Depresión"
    },
    {
     "label": "Curva Depresión Intermedia 2do Nivel",
     "imageData": "iVBORw0KGgoAAAANSUhEUgAAABQAAAAUCAYAAACNiR0NAAAACXBIWXMAAA7EAAAOxAGVKw4bAAAALUlEQVQ4jWNhoDJgGTVw1MBhbeBMEbX/lBiU/uYWI4qBMAFKwRAKw1EDh7GBACJ2Bn8gl71YAAAAAElFTkSuQmCC",
     "contentType": "image/png",
     "groupId": "0",
     "height": 20,
     "width": 20,
     "values": [
      3
     ],
     "layerId": 3,
     "layerName": "Curva de Depresión"
    },
    {
     "label": "Curva Depresión Intermedia 3er Nivel ",
     "imageData": "iVBORw0KGgoAAAANSUhEUgAAABQAAAAUCAYAAACNiR0NAAAACXBIWXMAAA7EAAAOxAGVKw4bAAAALUlEQVQ4jWNhoDJgGTVw1MBhbeBMEbX/lBiU/uYWI4qBMAFKwRAKw1EDh7GBACJ2Bn8gl71YAAAAAElFTkSuQmCC",
     "contentType": "image/png",
     "groupId": "0",
     "height": 20,
     "width": 20,
     "values": [
      4
     ],
     "layerId": 3,
     "layerName": "Curva de Depresión"
    },
    {
     "label": "Curva Depresión Intermedia 4to Nivel",
     "imageData": "iVBORw0KGgoAAAANSUhEUgAAABQAAAAUCAYAAACNiR0NAAAACXBIWXMAAA7EAAAOxAGVKw4bAAAALUlEQVQ4jWNhoDJgGTVw1MBhbeBMEbX/lBiU/uYWI4qBMAFKwRAKw1EDh7GBACJ2Bn8gl71YAAAAAElFTkSuQmCC",
     "contentType": "image/png",
     "groupId": "0",
     "height": 20,
     "width": 20,
     "values": [
      5
     ],
     "layerId": 3,
     "layerName": "Curva de Depresión"
    },
    {
     "label": "Curva Depresión Índice 1er Nivel",
     "imageData": "iVBORw0KGgoAAAANSUhEUgAAABQAAAAUCAYAAACNiR0NAAAACXBIWXMAAA7EAAAOxAGVKw4bAAAAL0lEQVQ4jWNhoDJgGTVw1MBha+A0EbX/1DAs680tRhYYgxoGMjAMmTAcNXCYGwgAMWIGgkEpWuAAAAAASUVORK5CYII=",
     "contentType": "image/png",
     "groupId": "0",
     "height": 20,
     "width": 20,
     "values": [
      6
     ],
     "layerId": 3,
     "layerName": "Curva de Depresión"
    },
    {
     "label": "Curva Depresión Índice 2do Nivel",
     "imageData": "iVBORw0KGgoAAAANSUhEUgAAABQAAAAUCAYAAACNiR0NAAAACXBIWXMAAA7EAAAOxAGVKw4bAAAALUlEQVQ4jWNhoDJgGTVw1MBhbeBMEbX/lBiU/uYWI4qBMAFKwRAKw1EDh7GBACJ2Bn8gl71YAAAAAElFTkSuQmCC",
     "contentType": "image/png",
     "groupId": "0",
     "height": 20,
     "width": 20,
     "values": [
      7
     ],
     "layerId": 3,
     "layerName": "Curva de Depresión"
    },
    {
     "label": "Curva Depresión Índice 3er Nivel",
     "imageData": "iVBORw0KGgoAAAANSUhEUgAAABQAAAAUCAYAAACNiR0NAAAACXBIWXMAAA7EAAAOxAGVKw4bAAAALUlEQVQ4jWNhoDJgGTVw1MBhbeBMEbX/lBiU/uYWI4qBMAFKwRAKw1EDh7GBACJ2Bn8gl71YAAAAAElFTkSuQmCC",
     "contentType": "image/png",
     "groupId": "0",
     "height": 20,
     "width": 20,
     "values": [
      8
     ],
     "layerId": 3,
     "layerName": "Curva de Depresión"
    },
    {
     "label": "Curva Depresión Índice 4to Nivel",
     "imageData": "iVBORw0KGgoAAAANSUhEUgAAABQAAAAUCAYAAACNiR0NAAAACXBIWXMAAA7EAAAOxAGVKw4bAAAALUlEQVQ4jWNhoDJgGTVw1MBhbeBMEbX/lBiU/uYWI4qBMAFKwRAKw1EDh7GBACJ2Bn8gl71YAAAAAElFTkSuQmCC",
     "contentType": "image/png",
     "groupId": "0",
     "height": 20,
     "width": 20,
     "values": [
      9
     ],
     "layerId": 3,
     "layerName": "Curva de Depresión"
    }
   ],
   "layerId": 3,
   "layerName": "Curva de Depresión",
   "serviceItemId": "0118a9d563ab4b78b59e821a80f0264c"
  },
  {
   "id": 4,
   "name": "Curva de Depresión Suplementaria",
   "parentLayerId": 0,
   "defaultVisibility": true,
   "subLayerIds": null,
   "minScale": 0,
   "maxScale": 0,
   "type": "Feature Layer",
   "geometryType": "esriGeometryPolyline",
   "supportsDynamicLegends": false,
   "legend": [
    {
     "label": "Depresión Suplementaria Mitad Intervalo ",
     "imageData": "iVBORw0KGgoAAAANSUhEUgAAABQAAAAUCAYAAACNiR0NAAAACXBIWXMAAA7EAAAOxAGVKw4bAAAAQ0lEQVQ4jWNhoDJgGTVw1EAqGzhTRO1/+ptbjITEiDaQHAA3cKaI2n9sCpBdBFODTS1MDQu6AD5AjJohHsujBg4TAwHhtBhRv64ZjAAAAABJRU5ErkJggg==",
     "contentType": "image/png",
     "groupId": "0",
     "height": 20,
     "width": 20,
     "values": [
      2
     ],
     "layerId": 4,
     "layerName": "Curva de Depresión Suplementaria"
    },
    {
     "label": "Depresión Suplementaria Cuarto Intervalo",
     "imageData": "iVBORw0KGgoAAAANSUhEUgAAABQAAAAUCAYAAACNiR0NAAAACXBIWXMAAA7EAAAOxAGVKw4bAAAAMElEQVQ4jWNhoDJgGTVw1MBhbeBMEbX/yBLpb24xkiPOgi6ADkgVH0JhOGrgMDYQAMPtEtsylOxzAAAAAElFTkSuQmCC",
     "contentType": "image/png",
     "groupId": "0",
     "height": 20,
     "width": 20,
     "values": [
      3
     ],
     "layerId": 4,
     "layerName": "Curva de Depresión Suplementaria"
    }
   ],
   "layerId": 4,
   "layerName": "Curva de Depresión Suplementaria",
   "serviceItemId": "0118a9d563ab4b78b59e821a80f0264c"
  },
  {
   "id": 5,
   "name": "Curva Suplementaria",
   "parentLayerId": 0,
   "defaultVisibility": true,
   "subLayerIds": null,
   "minScale": 0,
   "maxScale": 0,
   "type": "Feature Layer",
   "geometryType": "esriGeometryPolyline",
   "supportsDynamicLegends": false,
   "legend": [
    {
     "label": "Curva Suplementaria Mitad Intervalo",
     "imageData": "iVBORw0KGgoAAAANSUhEUgAAABQAAAAUCAYAAACNiR0NAAAACXBIWXMAAA7EAAAOxAGVKw4bAAAAMUlEQVQ4jWNhoDJgGTVw1MBhbeBMEbX/uBSlv7nFSKwaFnQBfIAYNUMoDEcNHMYGAgDzKgytxNtVewAAAABJRU5ErkJggg==",
     "contentType": "image/png",
     "groupId": "0",
     "height": 20,
     "width": 20,
     "values": [
      2
     ],
     "layerId": 5,
     "layerName": "Curva Suplementaria"
    },
    {
     "label": "Curva Suplementaria Cuarto Intervalo",
     "imageData": "iVBORw0KGgoAAAANSUhEUgAAABQAAAAUCAYAAACNiR0NAAAACXBIWXMAAA7EAAAOxAGVKw4bAAAAN0lEQVQ4jWNhoDJgGTVw1MBhbeBMEbX/MHb6m1uM6GLIAJs8TIwFXQCbRlwAm/wQCsNRA4exgQDD7RLbaGgmYwAAAABJRU5ErkJggg==",
     "contentType": "image/png",
     "groupId": "0",
     "height": 20,
     "width": 20,
     "values": [
      3
     ],
     "layerId": 5,
     "layerName": "Curva Suplementaria"
    }
   ],
   "layerId": 5,
   "layerName": "Curva Suplementaria",
   "serviceItemId": "0118a9d563ab4b78b59e821a80f0264c"
  },
  {
   "id": 6,
   "name": "Arena ",
   "parentLayerId": 0,
   "defaultVisibility": true,
   "subLayerIds": null,
   "minScale": 0,
   "maxScale": 0,
   "type": "Feature Layer",
   "geometryType": "esriGeometryPolygon",
   "supportsDynamicLegends": false,
   "legend": [
    {
     "label": "Arena Húmeda",
     "imageData": "iVBORw0KGgoAAAANSUhEUgAAABQAAAAUCAYAAACNiR0NAAAACXBIWXMAAA7EAAAOxAGVKw4bAAAAhklEQVQ4jb2U0Q2AMAhEMWEaJ3FkJ3Ed/bCYGE7oNdj7asz1CReoSrF0HnA7TtnXJbwNPB5opgwmIsjjgT2gQHUZts6UzurL374pnVXi/6HlKj0tg7+4M6E3kMgqBrLVmB90pEPVmB90NPFxQOqIBgOTbYimAa9elmkwDXj1BmfwBmYVkLoA/ZVODVYLWKIAAAAASUVORK5CYII=",
     "contentType": "image/png",
     "groupId": "0",
     "height": 20,
     "width": 20,
     "values": [
      2
     ],
     "layerId": 6,
     "layerName": "Arena "
    },
    {
     "label": "Arena Seca",
     "imageData": "iVBORw0KGgoAAAANSUhEUgAAABQAAAAUCAYAAACNiR0NAAAACXBIWXMAAA7EAAAOxAGVKw4bAAAAi0lEQVQ4jb2U0Q2AMAhEz4QRnMHVnMnVOoM76Bcm2iuUSsqXac5X7gIVJJdMAx7rdu1nWayfmaYCqsiDAQDTVMAekFVpGaoziWbV0uuZRLPy9PmWs4CPZXbL9ztSL2AkKxMY7Ub1zJGMdKN65mje48CqJxoK9LbBmga6el4X1jTQ1RudQaBh+c8TdgOYanvp9dQtRAAAAABJRU5ErkJggg==",
     "contentType": "image/png",
     "groupId": "0",
     "height": 20,
     "width": 20,
     "values": [
      3
     ],
     "layerId": 6,
     "layerName": "Arena "
    }
   ],
   "layerId": 6,
   "layerName": "Arena ",
   "serviceItemId": "0118a9d563ab4b78b59e821a80f0264c"
  },
  {
   "id": 7,
   "name": "Duna",
   "parentLayerId": 0,
   "defaultVisibility": true,
   "subLayerIds": null,
   "minScale": 0,
   "maxScale": 0,
   "type": "Feature Layer",
   "geometryType": "esriGeometryPolygon",
   "supportsDynamicLegends": false,
   "legend": [
    {
     "label": "Duna Longitudinal",
     "imageData": "iVBORw0KGgoAAAANSUhEUgAAABQAAAAUCAYAAACNiR0NAAAACXBIWXMAAA7EAAAOxAGVKw4bAAAAlElEQVQ4jb1UsQ3AIAxzpZzADbzWm3itN/QHOgWpYAhBiEwVchybOgg2lxwjTCHm+32uUTPDNIQKssgAgGGETUoh5l6DpV7qxlVlOkS8d9XD65l4FVn4bbEplncRFstsSv3tqR+h9293Cb1qFM8cNTmcKcUzR+ceB1YzV0MJrW0YpYGunqVilAa6eqsZBDqWV8kA4ANoj4xF5MZxdwAAAABJRU5ErkJggg==",
     "contentType": "image/png",
     "groupId": "0",
     "height": 20,
     "width": 20,
     "values": [
      2
     ],
     "layerId": 7,
     "layerName": "Duna"
    },
    {
     "label": "Duna Creciente",
     "imageData": "iVBORw0KGgoAAAANSUhEUgAAABQAAAAUCAYAAACNiR0NAAAACXBIWXMAAA7EAAAOxAGVKw4bAAAAjUlEQVQ4jb1UyQ2AMAwLUkZgBlZjJlZjBnaAVx4kbg6I6l9bx7KttkzN4GmCx7rd+3Uu3jDiGEEhRWJERIhjBDNCHto6lGRc7Urz9ZqrXY34sv87snbe1iF06HWVxUsw01VKsOpG+CgRf3EjfJRo3ueAkKkGCo4G0Q0wLwUNRy682wCfXhTNO4eRKw41HiSuiEUTa1fOAAAAAElFTkSuQmCC",
     "contentType": "image/png",
     "groupId": "0",
     "height": 20,
     "width": 20,
     "values": [
      3
     ],
     "layerId": 7,
     "layerName": "Duna"
    }
   ],
   "layerId": 7,
   "layerName": "Duna",
   "serviceItemId": "0118a9d563ab4b78b59e821a80f0264c"
  }
 ],
 "initialExtent": {
  "xmin": -8863548.486770056,
  "ymin": -1006021.6610044328,
  "xmax": -8557685.731279586,
  "ymax": -767164.6461514776,
  "spatialReference": {
   "wkid": 102100,
   "latestWkid": 3857,
   "xyTolerance": 0.001,
   "zTolerance": 0.001,
   "mTolerance": 0.001,
   "falseX": -20037700,
   "falseY": -30241100,
   "xyUnits": 1.4892314192838538E8,
   "falseZ": -100000,
   "zUnits": 10000,
   "falseM": -100000,
   "mUnits": 10000
  }
 },
 "fullExtent": {
  "xmin": -8863548.486770056,
  "ymin": -1006021.6610044328,
  "xmax": -8557685.731279586,
  "ymax": -767164.6461514776,
  "spatialReference": {
   "wkid": 102100,
   "latestWkid": 3857,
   "xyTolerance": 0.001,
   "zTolerance": 0.001,
   "mTolerance": 0.001,
   "falseX": -20037700,
   "falseY": -30241100,
   "xyUnits": 1.4892314192838538E8,
   "falseZ": -100000,
   "zUnits": 10000,
   "falseM": -100000,
   "mUnits": 10000
  }
 },
 "minScale": 0,
 "maxScale": 0,
 "exportTilesAllowed": false,
 "maxExportTilesCount": 0,
 "currentVersion": 11.2,
 "mapName": "FISIOGRAFIA_LL25KkK",
 "singleFusedMapCache": true,
 "type": "MapServer",
 "supportedExtensions": "",
 "capabilities": "TilesOnly,Tilemap",
 "serviceItemId": "0118a9d563ab4b78b59e821a80f0264c"
}
