{
 "version": 1.0,
 "tileBundlesPath": "./tile",
 "storageInfo": {
  "packetSize": 128,
  "storageFormat": "esriMapCacheStorageModeCompactV2"
 },
 "tileImageInfo": {
  "format": "PNG",
  "compressionQuality": 0,
  "bandCount": 1,
  "lercError": 0
 },
 "tileInfo": {
  "spatialReference": {
   "wkid": 102100,
   "latestWkid": 3857
  },
  "origin": {
   "x": -2.0037508342787E7,
   "y": 2.0037508342787E7
  },
  "rows": 256,
  "cols": 256,
  "dpi": 96,
  "lods": [
   {
    "level": 0,
    "resolution": 156543.033928,
    "scale": 5.91657527591555E8
   },
   {
    "level": 1,
    "resolution": 78271.5169639999,
    "scale": 2.95828763795777E8
   },
   {
    "level": 2,
    "resolution": 39135.7584820001,
    "scale": 1.47914381897889E8
   },
   {
    "level": 3,
    "resolution": 19567.8792409999,
    "scale": 7.3957190948944E7
   },
   {
    "level": 4,
    "resolution": 9783.93962049996,
    "scale": 3.6978595474472E7
   },
   {
    "level": 5,
    "resolution": 4891.96981024998,
    "scale": 1.8489297737236E7
   },
   {
    "level": 6,
    "resolution": 2445.98490512499,
    "scale": 9244648.868618
   },
   {
    "level": 7,
    "resolution": 1222.99245256249,
    "scale": 4622324.434309
   },
   {
    "level": 8,
    "resolution": 611.49622628138,
    "scale": 2311162.217155
   },
   {
    "level": 9,
    "resolution": 305.748113140558,
    "scale": 1155581.108577
   },
   {
    "level": 10,
    "resolution": 152.874056570411,
    "scale": 577790.554289
   },
   {
    "level": 11,
    "resolution": 76.4370282850732,
    "scale": 288895.277144
   },
   {
    "level": 12,
    "resolution": 38.2185141425366,
    "scale": 144447.638572
   },
   {
    "level": 13,
    "resolution": 19.1092570712683,
    "scale": 72223.819286
   },
   {
    "level": 14,
    "resolution": 9.55462853563415,
    "scale": 36111.909643
   },
   {
    "level": 15,
    "resolution": 4.77731426794937,
    "scale": 18055.954822
   },
   {
    "level": 16,
    "resolution": 2.38865713397468,
    "scale": 9027.977411
   },
   {
    "level": 17,
    "resolution": 1.19432856685505,
    "scale": 4513.988705
   },
   {
    "level": 18,
    "resolution": 0.597164283559817,
    "scale": 2256.994353
   },
   {
    "level": 19,
    "resolution": 0.298582141647617,
    "scale": 1128.497176
   },
   {
    "level": 20,
    "resolution": 0.14929107082380833,
    "scale": 564.248588
   },
   {
    "level": 21,
    "resolution": 0.07464553541190416,
    "scale": 282.124294
   },
   {
    "level": 22,
    "resolution": 0.03732276770595208,
    "scale": 141.062147
   },
   {
    "level": 23,
    "resolution": 0.01866138385297604,
    "scale": 70.5310735
   }
  ],
  "format": "PNG",
  "compressionQuality": 0,
  "bandCount": 1,
  "lercError": 0,
  "storageFormat": "esriMapCacheStorageModeCompactV2",
  "packetSize": 128
 },
 "name": "AREQUIPA_25K",
 "serviceDescription": "",
 "spatialReference": {
  "wkid": 102100,
  "latestWkid": 3857,
  "xyTolerance": 0.001,
  "zTolerance": 0.001,
  "mTolerance": 0.001,
  "falseX": -20037700,
  "falseY": -30241100,
  "xyUnits": 1.4892314192838538E8,
  "falseZ": -100000,
  "zUnits": 10000,
  "falseM": -100000,
  "mUnits": 10000
 },
 "units": "esriMeters",
 "minLOD": 5,
 "maxLOD": 19,
 "resampling": true,
 "layers": [
  {
   "id": 0,
   "name": "FISIOGRAFIA",
   "parentLayerId": -1,
   "defaultVisibility": true,
   "subLayerIds": [
    1,
    2,
    3,
    4,
    5
   ],
   "minScale": 0,
   "maxScale": 0,
   "type": "Group Layer",
   "supportsDynamicLegends": false,
   "layerId": 0,
   "layerName": "FISIOGRAFIA",
   "serviceItemId": "9a6be802913647e984e9fb539ca562bc"
  },
  {
   "id": 1,
   "name": "Cota_P",
   "parentLayerId": 0,
   "defaultVisibility": true,
   "subLayerIds": null,
   "minScale": 50000,
   "maxScale": 0,
   "type": "Feature Layer",
   "geometryType": "esriGeometryPoint",
   "supportsDynamicLegends": false,
   "legend": [
    {
     "label": "Cota",
     "imageData": "iVBORw0KGgoAAAANSUhEUgAAABQAAAAUCAYAAACNiR0NAAAACXBIWXMAAA7EAAAOxAGVKw4bAAAAKklEQVQ4je3MIQEAAAzDsIP613w83MFFQLgyFmr4Ii30KBxhoUfhCAtPexArAFF5acCuAAAAAElFTkSuQmCC",
     "contentType": "image/png",
     "groupId": "0",
     "height": 20,
     "width": 20,
     "values": [
      1
     ],
     "layerId": 1,
     "layerName": "Cota_P"
    }
   ],
   "layerId": 1,
   "layerName": "Cota_P",
   "serviceItemId": "9a6be802913647e984e9fb539ca562bc"
  },
  {
   "id": 2,
   "name": "Curva_De_Depresión_L",
   "parentLayerId": 0,
   "defaultVisibility": true,
   "subLayerIds": null,
   "minScale": 0,
   "maxScale": 0,
   "type": "Feature Layer",
   "geometryType": "esriGeometryPolyline",
   "supportsDynamicLegends": false,
   "legend": [
    {
     "label": "Curva de Depresión Índice de 4to Nivel",
     "imageData": "iVBORw0KGgoAAAANSUhEUgAAABQAAAAUCAYAAACNiR0NAAAACXBIWXMAAA7EAAAOxAGVKw4bAAAAPElEQVQ4jWNhoDJgGTWQYsBCuRGoYNRAKobhTBG1/5QYlP7mFiOKgTABSgELNQxBBqMGUg5YqGDGEDMQACJ2Bn8wMWgXAAAAAElFTkSuQmCC",
     "contentType": "image/png",
     "groupId": "0",
     "height": 20,
     "width": 20,
     "values": [
      1
     ],
     "layerId": 2,
     "layerName": "Curva_De_Depresión_L"
    },
    {
     "label": "Curva de Depresión Índice de 3er Nivel",
     "imageData": "iVBORw0KGgoAAAANSUhEUgAAABQAAAAUCAYAAACNiR0NAAAACXBIWXMAAA7EAAAOxAGVKw4bAAAAPElEQVQ4jWNhoDJgGTWQYsBCuRGoYNRAKobhTBG1/5QYlP7mFiOKgTABSgELNQxBBqMGUg5YqGDGEDMQACJ2Bn8wMWgXAAAAAElFTkSuQmCC",
     "contentType": "image/png",
     "groupId": "0",
     "height": 20,
     "width": 20,
     "values": [
      2
     ],
     "layerId": 2,
     "layerName": "Curva_De_Depresión_L"
    },
    {
     "label": "Curva de Depresión Índice de 2do Nivel",
     "imageData": "iVBORw0KGgoAAAANSUhEUgAAABQAAAAUCAYAAACNiR0NAAAACXBIWXMAAA7EAAAOxAGVKw4bAAAAPElEQVQ4jWNhoDJgGTWQYsBCuRGoYNRAKobhTBG1/5QYlP7mFiOKgTABSgELNQxBBqMGUg5YqGDGEDMQACJ2Bn8wMWgXAAAAAElFTkSuQmCC",
     "contentType": "image/png",
     "groupId": "0",
     "height": 20,
     "width": 20,
     "values": [
      3
     ],
     "layerId": 2,
     "layerName": "Curva_De_Depresión_L"
    },
    {
     "label": "Curva de Depresión Índice de 1er Nivel",
     "imageData": "iVBORw0KGgoAAAANSUhEUgAAABQAAAAUCAYAAACNiR0NAAAACXBIWXMAAA7EAAAOxAGVKw4bAAAAPElEQVQ4jWNhoDJgGTWQYsBCuRGoYNRAKobhTBG1/5QYlP7mFiOKgTABSgELNQxBBqMGUg5YqGDGEDMQACJ2Bn8wMWgXAAAAAElFTkSuQmCC",
     "contentType": "image/png",
     "groupId": "0",
     "height": 20,
     "width": 20,
     "values": [
      4
     ],
     "layerId": 2,
     "layerName": "Curva_De_Depresión_L"
    },
    {
     "label": "Curva de Depresión Intermedia de 4to Nivel",
     "imageData": "iVBORw0KGgoAAAANSUhEUgAAABQAAAAUCAYAAACNiR0NAAAACXBIWXMAAA7EAAAOxAGVKw4bAAAAPElEQVQ4jWNhoDJgGTWQYsBCuRGoYNRAKobhTBG1/5QYlP7mFiOKgTABSgELNQxBBqMGUg5YqGDGEDMQACJ2Bn8wMWgXAAAAAElFTkSuQmCC",
     "contentType": "image/png",
     "groupId": "0",
     "height": 20,
     "width": 20,
     "values": [
      5
     ],
     "layerId": 2,
     "layerName": "Curva_De_Depresión_L"
    },
    {
     "label": "Curva de Depresión Intermedia de 3er Nivel",
     "imageData": "iVBORw0KGgoAAAANSUhEUgAAABQAAAAUCAYAAACNiR0NAAAACXBIWXMAAA7EAAAOxAGVKw4bAAAAPElEQVQ4jWNhoDJgGTWQYsBCuRGoYNRAKobhTBG1/5QYlP7mFiOKgTABSgELNQxBBqMGUg5YqGDGEDMQACJ2Bn8wMWgXAAAAAElFTkSuQmCC",
     "contentType": "image/png",
     "groupId": "0",
     "height": 20,
     "width": 20,
     "values": [
      6
     ],
     "layerId": 2,
     "layerName": "Curva_De_Depresión_L"
    },
    {
     "label": "Curva de Depresión Intermedia de 2do Nivel",
     "imageData": "iVBORw0KGgoAAAANSUhEUgAAABQAAAAUCAYAAACNiR0NAAAACXBIWXMAAA7EAAAOxAGVKw4bAAAAPElEQVQ4jWNhoDJgGTWQYsBCuRGoYNRAKobhTBG1/5QYlP7mFiOKgTABSgELNQxBBqMGUg5YqGDGEDMQACJ2Bn8wMWgXAAAAAElFTkSuQmCC",
     "contentType": "image/png",
     "groupId": "0",
     "height": 20,
     "width": 20,
     "values": [
      7
     ],
     "layerId": 2,
     "layerName": "Curva_De_Depresión_L"
    },
    {
     "label": "Curva de Depresión Intermedia de 1er Nivel",
     "imageData": "iVBORw0KGgoAAAANSUhEUgAAABQAAAAUCAYAAACNiR0NAAAACXBIWXMAAA7EAAAOxAGVKw4bAAAAPElEQVQ4jWNhoDJgGTWQYsBCuRGoYNRAKobhTBG1/5QYlP7mFiOKgTABSgELNQxBBqMGUg5YqGDGEDMQACJ2Bn8wMWgXAAAAAElFTkSuQmCC",
     "contentType": "image/png",
     "groupId": "0",
     "height": 20,
     "width": 20,
     "values": [
      8
     ],
     "layerId": 2,
     "layerName": "Curva_De_Depresión_L"
    }
   ],
   "layerId": 2,
   "layerName": "Curva_De_Depresión_L",
   "serviceItemId": "9a6be802913647e984e9fb539ca562bc"
  },
  {
   "id": 3,
   "name": "Curva_De_Nivel_L",
   "parentLayerId": 0,
   "defaultVisibility": true,
   "subLayerIds": null,
   "minScale": 150000,
   "maxScale": 0,
   "type": "Feature Layer",
   "geometryType": "esriGeometryPolyline",
   "supportsDynamicLegends": false,
   "legend": [
    {
     "label": "Curva de Nivel Índice - Tierra",
     "imageData": "iVBORw0KGgoAAAANSUhEUgAAABQAAAAUCAYAAACNiR0NAAAACXBIWXMAAA7EAAAOxAGVKw4bAAAAPElEQVQ4jWNhoDJgGTWQYsBCuRGoYNRAKobhTBG1/5QYlP7mFiOKgTABSgELNQxBBqMGUg5YqGDGEDMQACJ2Bn8wMWgXAAAAAElFTkSuQmCC",
     "contentType": "image/png",
     "groupId": "0",
     "height": 20,
     "width": 20,
     "values": [
      1
     ],
     "layerId": 3,
     "layerName": "Curva_De_Nivel_L"
    },
    {
     "label": "Curva de Nivel Intermedia - Tierra",
     "imageData": "iVBORw0KGgoAAAANSUhEUgAAABQAAAAUCAYAAACNiR0NAAAACXBIWXMAAA7EAAAOxAGVKw4bAAAAPElEQVQ4jWNhoDJgGTWQYsBCuRGoYNRAKobhTBG1/5QYlP7mFiOKgTABSgELNQxBBqMGUg5YqGDGEDMQACJ2Bn8wMWgXAAAAAElFTkSuQmCC",
     "contentType": "image/png",
     "groupId": "0",
     "height": 20,
     "width": 20,
     "values": [
      2
     ],
     "layerId": 3,
     "layerName": "Curva_De_Nivel_L"
    },
    {
     "label": "Curva de Nivel Índice - Nevado",
     "imageData": "iVBORw0KGgoAAAANSUhEUgAAABQAAAAUCAYAAACNiR0NAAAACXBIWXMAAA7EAAAOxAGVKw4bAAAAOklEQVQ4jWNhoDJgGTWQYsBCuRGoYNRAaoahx7X/FJm0Q4sR1UCoAKWAhRqGIINRAykHLFQwY4gZCACycQQ0bCHtEAAAAABJRU5ErkJggg==",
     "contentType": "image/png",
     "groupId": "0",
     "height": 20,
     "width": 20,
     "values": [
      3
     ],
     "layerId": 3,
     "layerName": "Curva_De_Nivel_L"
    },
    {
     "label": "Curva de Nivel Intermedia - Nevado",
     "imageData": "iVBORw0KGgoAAAANSUhEUgAAABQAAAAUCAYAAACNiR0NAAAACXBIWXMAAA7EAAAOxAGVKw4bAAAAOklEQVQ4jWNhoDJgGTWQYsBCuRGoYNRAaoahx7X/FJm0Q4sR1UCoAKWAhRqGIINRAykHLFQwY4gZCACycQQ0bCHtEAAAAABJRU5ErkJggg==",
     "contentType": "image/png",
     "groupId": "0",
     "height": 20,
     "width": 20,
     "values": [
      4
     ],
     "layerId": 3,
     "layerName": "Curva_De_Nivel_L"
    }
   ],
   "layerId": 3,
   "layerName": "Curva_De_Nivel_L",
   "serviceItemId": "9a6be802913647e984e9fb539ca562bc"
  },
  {
   "id": 4,
   "name": "Curva_Suplementaria_L",
   "parentLayerId": 0,
   "defaultVisibility": true,
   "subLayerIds": null,
   "minScale": 0,
   "maxScale": 0,
   "type": "Feature Layer",
   "geometryType": "esriGeometryPolyline",
   "supportsDynamicLegends": false,
   "legend": [
    {
     "label": "Mitad de Intervalo",
     "imageData": "iVBORw0KGgoAAAANSUhEUgAAABQAAAAUCAYAAACNiR0NAAAACXBIWXMAAA7EAAAOxAGVKw4bAAAAP0lEQVQ4jWNhoDJgGTWQYsBCuRGoYNRAKobhTBG1/7gUpb+5xUisGhZ0AXyAGDUsDFQGLKMGUgxYKDdiqBkIAPMqDK2JNn0RAAAAAElFTkSuQmCC",
     "contentType": "image/png",
     "groupId": "0",
     "height": 20,
     "width": 20,
     "values": [
      1
     ],
     "layerId": 4,
     "layerName": "Curva_Suplementaria_L"
    },
    {
     "label": "Cuarto de Intervalo",
     "imageData": "iVBORw0KGgoAAAANSUhEUgAAABQAAAAUCAYAAACNiR0NAAAACXBIWXMAAA7EAAAOxAGVKw4bAAAAR0lEQVQ4jWNhoDJgGTWQYsBCuRGoYNRAKobhTBG1/zB2+ptbjOhiyACbfDpUjAVdAJtGXACbPAsDlQHLqIEUAxbKjRhqBgIAw+0S22gywt4AAAAASUVORK5CYII=",
     "contentType": "image/png",
     "groupId": "0",
     "height": 20,
     "width": 20,
     "values": [
      2
     ],
     "layerId": 4,
     "layerName": "Curva_Suplementaria_L"
    }
   ],
   "layerId": 4,
   "layerName": "Curva_Suplementaria_L",
   "serviceItemId": "9a6be802913647e984e9fb539ca562bc"
  },
  {
   "id": 5,
   "name": "Arena_A",
   "parentLayerId": 0,
   "defaultVisibility": true,
   "subLayerIds": null,
   "minScale": 0,
   "maxScale": 0,
   "type": "Feature Layer",
   "geometryType": "esriGeometryPolygon",
   "supportsDynamicLegends": false,
   "legend": [
    {
     "label": "Arena Húmeda",
     "imageData": "iVBORw0KGgoAAAANSUhEUgAAABQAAAAUCAYAAACNiR0NAAAACXBIWXMAAA7EAAAOxAGVKw4bAAAAg0lEQVQ4jb1UQQrAIAxzkNfsJX2yL9l3HEM8DKM1UsxJJI1NaEUKBs4J2lNSvq9pNeFgSPLEPhBOL7gidCRDq84gZzXi53oHOSuHjxRuOQq5WVazcgD2SneWBU3spvGJI2x10/jE0cHPgWEhGkiFbALsz+Wr52U6mQa+epszWAW9DkS8/ZVODVvfLwsAAAAASUVORK5CYII=",
     "contentType": "image/png",
     "groupId": "0",
     "height": 20,
     "width": 20,
     "values": [
      1
     ],
     "layerId": 5,
     "layerName": "Arena_A"
    },
    {
     "label": "Arena Seca",
     "imageData": "iVBORw0KGgoAAAANSUhEUgAAABQAAAAUCAYAAACNiR0NAAAACXBIWXMAAA7EAAAOxAGVKw4bAAAAiklEQVQ4jcWT0QmAMAxEI9wIzuBqnamrOYM7KIr9KdemV4LeVygvaS4ksGDhs4J53c507EsvmTFoQV6xW4zBCPTLDPPrDOqsWnx636DOyuNh0ZYtSKlYZr/UsSKwX+pYLpjFbgrPHGGmm8IzR7BgQYFHRgMlkW1Arlh6el4XvW2gpze7g09BrwNVF5hqe+l/SXI9AAAAAElFTkSuQmCC",
     "contentType": "image/png",
     "groupId": "0",
     "height": 20,
     "width": 20,
     "values": [
      2
     ],
     "layerId": 5,
     "layerName": "Arena_A"
    }
   ],
   "layerId": 5,
   "layerName": "Arena_A",
   "serviceItemId": "9a6be802913647e984e9fb539ca562bc"
  }
 ],
 "initialExtent": {
  "xmin": -8183682.919707337,
  "ymin": -1798194.9722021003,
  "xmax": -7885819.117683605,
  "ymax": -1639307.8379507575,
  "spatialReference": {
   "wkid": 102100,
   "latestWkid": 3857
  }
 },
 "fullExtent": {
  "xmin": -8183682.919707337,
  "ymin": -1798194.9722021003,
  "xmax": -7885819.117683605,
  "ymax": -1639307.8379507575,
  "spatialReference": {
   "wkid": 102100,
   "latestWkid": 3857
  }
 },
 "minScale": 0,
 "maxScale": 0,
 "exportTilesAllowed": false,
 "maxExportTilesCount": 0,
 "currentVersion": 11.2,
 "mapName": "AREQUIPA_25K",
 "singleFusedMapCache": true,
 "type": "MapServer",
 "supportedExtensions": "",
 "capabilities": "TilesOnly,Tilemap",
 "serviceItemId": "9a6be802913647e984e9fb539ca562bc"
}
